BEGIN:VCALENDAR
VERSION:2.0
PRODID:icalendar-ruby
CALSCALE:GREGORIAN
METHOD:PUBLISH
BEGIN:VEVENT
DTSTAMP:20260420T131003Z
UID:10-1008789@berachahbible.org
DTSTART:20260426T153000Z
DTEND:20260426T163000Z
CLASS:PUBLIC
CREATED:20260420T063715
DESCRIPTION:
LAST-MODIFIED:20260420T063715
LOCATION:
SUMMARY:Sunday School
URL;VALUE=URI:https://www.berachahbible.org/events/sunday-school/2026-04-26
ATTACH;FILENAME=BBC2020.7059.jpg;FMTTYPE=image/jpeg:https://dq5pwpg1q8ru0.c
 loudfront.net/2021/02/02/18/15/05/b5f57886-c616-4c98-b96a-9b27ff8deb81/BBC
 2020.7059.jpg
END:VEVENT
END:VCALENDAR
